BEGIN:VCALENDAR
VERSION:2.0
PRODID:icalendar-ruby
CALSCALE:GREGORIAN
METHOD:PUBLISH
BEGIN:VEVENT
DTSTAMP:20260425T021410Z
UID:345-5866795@erindalealliance.ca
DTSTART:20230528T154500Z
DTEND:20230528T161500Z
CLASS:PUBLIC
CREATED:20260424T182832
DESCRIPTION:
LAST-MODIFIED:20260424T182832
LOCATION:
SUMMARY:Pre-Service Prayer Meeting
URL;VALUE=URI:https://www.erindalealliance.ca/events/pre-service-prayer-mee
 ting/2023-05-28
ATTACH;FILENAME=event thumbnails.png;FMTTYPE=image/png:https://dq5pwpg1q8ru
 0.cloudfront.net/2022/05/03/12/51/03/72534b60-82e1-4e15-8b1e-e0986a023ad3/
 event%20thumbnails.png
END:VEVENT
END:VCALENDAR
