BEGIN:VCALENDAR
VERSION:2.0
PRODID:icalendar-ruby
CALSCALE:GREGORIAN
METHOD:PUBLISH
BEGIN:VEVENT
DTSTAMP:20260420T074427Z
UID:329-5777844@erindalealliance.ca
DTSTART:20260523T130000Z
DTEND:20260524T020000Z
CLASS:PUBLIC
CREATED:20260419T225136
DESCRIPTION:
LAST-MODIFIED:20260419T225136
LOCATION:
SUMMARY:Young Adults
URL;VALUE=URI:https://www.erindalealliance.ca/events/young-adults--329/2026
 -05-23
ATTACH;FILENAME=9.png;FMTTYPE=image/png:https://dq5pwpg1q8ru0.cloudfront.ne
 t/2022/06/14/08/29/03/184422e0-3683-4d03-9f69-2ce13d98a739/9.png
END:VEVENT
END:VCALENDAR
